BEGIN:VCALENDAR
VERSION:2.0
PRODID:-//Friends of Cape Coral Library - ECPv6.15.18//NONSGML v1.0//EN
CALSCALE:GREGORIAN
METHOD:PUBLISH
X-WR-CALNAME:Friends of Cape Coral Library
X-ORIGINAL-URL:https://capefriends.org
X-WR-CALDESC:Events for Friends of Cape Coral Library
REFRESH-INTERVAL;VALUE=DURATION:PT1H
X-Robots-Tag:noindex
X-PUBLISHED-TTL:PT1H
BEGIN:VTIMEZONE
TZID:America/New_York
BEGIN:DAYLIGHT
TZOFFSETFROM:-0500
TZOFFSETTO:-0400
TZNAME:EDT
DTSTART:20250309T070000
END:DAYLIGHT
BEGIN:STANDARD
TZOFFSETFROM:-0400
TZOFFSETTO:-0500
TZNAME:EST
DTSTART:20251102T060000
END:STANDARD
BEGIN:DAYLIGHT
TZOFFSETFROM:-0500
TZOFFSETTO:-0400
TZNAME:EDT
DTSTART:20260308T070000
END:DAYLIGHT
BEGIN:STANDARD
TZOFFSETFROM:-0400
TZOFFSETTO:-0500
TZNAME:EST
DTSTART:20261101T060000
END:STANDARD
BEGIN:DAYLIGHT
TZOFFSETFROM:-0500
TZOFFSETTO:-0400
TZNAME:EDT
DTSTART:20270314T070000
END:DAYLIGHT
BEGIN:STANDARD
TZOFFSETFROM:-0400
TZOFFSETTO:-0500
TZNAME:EST
DTSTART:20271107T060000
END:STANDARD
END:VTIMEZONE
BEGIN:VEVENT
DTSTART;TZID=America/New_York:20260228T100000
DTEND;TZID=America/New_York:20260228T160000
DTSTAMP:20260422T075218
CREATED:20250827T102419Z
LAST-MODIFIED:20250828T152727Z
UID:607-1772272800-1772294400@capefriends.org
SUMMARY:Burrowing Owl Festival
DESCRIPTION:
URL:https://capefriends.org/event/burrowing-owl-festival/
LOCATION:Rotary Park\, 5505 Rose Garden Rd\, Cape Coral\, FL\, 33914
CATEGORIES:Community Event
ORGANIZER;CN="Friends of the Cape Coral Library":MAILTO:president@capefriends.org
END:VEVENT
END:VCALENDAR